BEGIN:VCALENDAR
VERSION:2.0
PRODID:-//RIGHTHERE//CALENDARIZE IT V3.2//EN
BEGIN:VTIMEZONE
TZID:Europe/Rome
BEGIN:STANDARD
DTSTART:20251026T010000
TZOFFSETFROM:+0200
TZOFFSETTO:+0100
TZNAME:CET
END:STANDARD
BEGIN:DAYLIGHT
DTSTART:20260329T010000
TZOFFSETFROM:+0100
TZOFFSETTO:+0200
TZNAME:CEST
END:DAYLIGHT
BEGIN:STANDARD
DTSTART:20261025T010000
TZOFFSETFROM:+0200
TZOFFSETTO:+0100
TZNAME:CET
END:STANDARD
END:VTIMEZONE
BEGIN:VEVENT
UID:2813-events@trento.federmanager.it
DTSTART;VALUE=DATE:20260612
DTEND;VALUE=DATE:20260612
DTSTAMP;TZID=Europe/Rome:20260423T101325
SUMMARY:ASSEMBLEA GENERALE ORDINARIA CONDIVISA CON FEDERMANAGER BOLZANO: 12
 GIUGNO 2026 ORE 15:00
URL:https://trento.federmanager.it/events/assemblea-generale-ordinaria-cond
 ivisa-con-federmanager-bolzano-12-giugno-2026-ore-1500/
END:VEVENT
END:VCALENDAR